BEGIN:VCALENDAR
VERSION:2.0
PRODID:-//www.nebraskacasa.org//NONSGML kigkonsult.se iCalcreator 2.30.10//
CALSCALE:GREGORIAN
METHOD:PUBLISH
UID:85a3846f-bee9-407c-ad66-854ca32ba706
X-WR-CALDESC:Start the day with your friends from CASA at the August CASA C
 offee! Join us at Hardy Coffee Co\, 2112 N 30th Street\, anytime between 7
 :30-9:00 am. Enjoy an informal time to connect and network with CASA staff
  and volunteers. We invite you to bring a friend or coworker who might be 
 interested in learning more about our mission to advocate for children in 
 foster care.\n\nWe look forward to seeing you!
X-WR-RELCALID:60558ab3815c2ac4146a8940e2c5e3fe
X-WR-TIMEZONE:America/Chicago
BEGIN:VTIMEZONE
TZID:America/Chicago
BEGIN:STANDARD
TZNAME:CST
DTSTART:20171105T020000
TZOFFSETFROM:-0500
TZOFFSETTO:-0600
RDATE:20181104T020000
RDATE:20191103T020000
END:STANDARD
BEGIN:DAYLIGHT
TZNAME:CDT
DTSTART:20180311T020000
TZOFFSETFROM:-0600
TZOFFSETTO:-0500
RDATE:20190310T020000
RDATE:20200308T020000
END:DAYLIGHT
END:VTIMEZONE
BEGIN:VEVENT
UID:6429403e-8526-4519-aa3d-2583a814bc8c
DTSTAMP:20260422T020444Z
DESCRIPTION:Start the day with your friends from CASA at the August CASA Co
 ffee! Join us at Hardy Coffee Co\, 2112 N 30th Street\, anytime between 7:
 30-9:00 am. Enjoy an informal time to connect and network with CASA staff 
 and volunteers. We invite you to bring a friend or coworker who might be i
 nterested in learning more about our mission to advocate for children in f
 oster care.\n\nWe look forward to seeing you!
DTSTART;TZID=America/Chicago:20180907T073000
DTEND;TZID=America/Chicago:20180907T093000
LOCATION:Hardy Coffee Co (Highlander) 2112 North 30th Street\, Omaha\, Nebr
 aska 68111
SUMMARY:CASA Coffee
END:VEVENT
END:VCALENDAR
