BEGIN:VCALENDAR
VERSION:2.0
PRODID:-//www.nebraskacasa.org//NONSGML kigkonsult.se iCalcreator 2.30.10//
CALSCALE:GREGORIAN
METHOD:PUBLISH
UID:4e047c56-ca8f-4773-ae24-a31254cfb27c
X-WR-CALDESC:Come and go party to meet Elizabeth and say goodbye to Carol.
X-WR-RELCALID:2479c057163b480c246906b798aa9439
X-WR-TIMEZONE:America/Chicago
BEGIN:VTIMEZONE
TZID:America/Chicago
BEGIN:STANDARD
TZNAME:CST
DTSTART:20171105T020000
TZOFFSETFROM:-0500
TZOFFSETTO:-0600
RDATE:20181104T020000
RDATE:20191103T020000
END:STANDARD
BEGIN:DAYLIGHT
TZNAME:CDT
DTSTART:20180311T020000
TZOFFSETFROM:-0600
TZOFFSETTO:-0500
RDATE:20190310T020000
RDATE:20200308T020000
END:DAYLIGHT
END:VTIMEZONE
BEGIN:VEVENT
UID:22e601c6-3734-4d2e-82c5-47fdb46bb542
DTSTAMP:20260422T021948Z
DESCRIPTION:Come and go party to meet Elizabeth and say goodbye to Carol.
DTSTART;TZID=America/Chicago:20180911T140000
DTEND;TZID=America/Chicago:20180911T160000
LOCATION:York County Courhouse\, Commissoner's Room
SUMMARY:Hello/Goodbye CASA Reception
END:VEVENT
END:VCALENDAR
