BEGIN:VCALENDAR
VERSION:2.0
PRODID:-//www.nebraskacasa.org//NONSGML kigkonsult.se iCalcreator 2.30.10//
CALSCALE:GREGORIAN
METHOD:PUBLISH
UID:dfa2b6d1-3e1e-4809-98c2-598ef7b9fcc5
X-WR-CALDESC:You are invited to an evening of hors-d'oeuvres\, drinks\, and
  inspiring stories to celebrate 20 years of lifting up the lives and voice
 s of children in foster care.\n\nDate: Thursday\, September 13\, 2018\nLoc
 ation: Kaneko\, 1111 Jones Street\nTime: VIP Reception for CASA Volunteers
  (Past and Present) and Sponsors\, 5:00-6:00 pm // Celebration\, 6:00 pm\,
  with program beginning at 6:30 pm\nHonorary Chairs: Kay Lynn & Dr. John G
 oldner\nEmcee: Scott Moore \n
X-WR-RELCALID:f7809869ca11eb79545fd1abd26a5c55
X-WR-TIMEZONE:America/Chicago
BEGIN:VTIMEZONE
TZID:America/Chicago
BEGIN:STANDARD
TZNAME:CST
DTSTART:20171105T020000
TZOFFSETFROM:-0500
TZOFFSETTO:-0600
RDATE:20181104T020000
RDATE:20191103T020000
END:STANDARD
BEGIN:DAYLIGHT
TZNAME:CDT
DTSTART:20180311T020000
TZOFFSETFROM:-0600
TZOFFSETTO:-0500
RDATE:20190310T020000
RDATE:20200308T020000
END:DAYLIGHT
END:VTIMEZONE
BEGIN:VEVENT
UID:30186d90-47b9-405f-b190-416acd514ad7
DTSTAMP:20260422T020627Z
DESCRIPTION:You are invited to an evening of hors-d'oeuvres\, drinks\, and 
 inspiring stories to celebrate 20 years of lifting up the lives and voices
  of children in foster care.\n\nDate: Thursday\, September 13\, 2018\nLoca
 tion: Kaneko\, 1111 Jones Street\nTime: VIP Reception for CASA Volunteers 
 (Past and Present) and Sponsors\, 5:00-6:00 pm // Celebration\, 6:00 pm\, 
 with program beginning at 6:30 pm\nHonorary Chairs: Kay Lynn & Dr. John Go
 ldner\nEmcee: Scott Moore \n
DTSTART;TZID=America/Chicago:20180911T180000
DTEND;TZID=America/Chicago:20180911T200000
LOCATION:KANEKO 1111 Jones St.\, Omaha\, Nebraska 68102
SUMMARY:Unsung Heroes
END:VEVENT
END:VCALENDAR
