BEGIN:VCALENDAR
VERSION:2.0
PRODID:-//www.nebraskacasa.org//NONSGML kigkonsult.se iCalcreator 2.30.10//
CALSCALE:GREGORIAN
METHOD:PUBLISH
UID:556571df-f488-4d43-b62a-cb7551e3e8d7
X-WR-CALDESC:Hard week at work?\nIs your CASA case is going crazy? \nWant t
 o connect with other CASA volunteers?\nThen join us for a fun F.A.C. at th
 e CASA office on Sept. 14th! We will have beer\, cocktails\, and pizza - a
 ll we are missing is you! \n\nPlease RSVP so we can order enough pizza and
  chill enough drinks. \n\nSee you then!
X-WR-RELCALID:a2fc51e2956202bc5554fd26e63a4140
X-WR-TIMEZONE:America/Chicago
BEGIN:VTIMEZONE
TZID:America/Chicago
BEGIN:STANDARD
TZNAME:CST
DTSTART:20171105T020000
TZOFFSETFROM:-0500
TZOFFSETTO:-0600
RDATE:20181104T020000
RDATE:20191103T020000
END:STANDARD
BEGIN:DAYLIGHT
TZNAME:CDT
DTSTART:20180311T020000
TZOFFSETFROM:-0600
TZOFFSETTO:-0500
RDATE:20190310T020000
RDATE:20200308T020000
END:DAYLIGHT
END:VTIMEZONE
BEGIN:VEVENT
UID:f91f6f7e-2452-4eae-bbc4-c2c5a609102b
DTSTAMP:20260422T020444Z
DESCRIPTION:Hard week at work?\nIs your CASA case is going crazy? \nWant to
  connect with other CASA volunteers?\nThen join us for a fun F.A.C. at the
  CASA office on Sept. 14th! We will have beer\, cocktails\, and pizza - al
 l we are missing is you! \n\nPlease RSVP so we can order enough pizza and 
 chill enough drinks. \n\nSee you then!
DTSTART;TZID=America/Chicago:20180914T160000
DTEND;TZID=America/Chicago:20180914T180000
LOCATION:CASA for Lancaster County 1141 H St # C\, Lincoln\, Nebraska 68508
SUMMARY:FAC (Friday Afternoon with CASA)
END:VEVENT
END:VCALENDAR
