BEGIN:VCALENDAR
VERSION:2.0
PRODID:-//www.nebraskacasa.org//NONSGML kigkonsult.se iCalcreator 2.30.10//
CALSCALE:GREGORIAN
METHOD:PUBLISH
UID:aa6ba1b0-1e12-418a-b5d1-15cf20a9add0
X-WR-CALDESC:Annual CASA Sale!! All proceeds will benefit Trails West CASA'
 s child advocacy efforts. If you have any questions\, feel free to contact
  us at 308-284-9858. Donations are NOW being accepted!!
X-WR-RELCALID:38ae49dad1f03520e3b0837c67d26a42
X-WR-TIMEZONE:America/Chicago
BEGIN:VTIMEZONE
TZID:America/Chicago
BEGIN:STANDARD
TZNAME:CST
DTSTART:20171105T020000
TZOFFSETFROM:-0500
TZOFFSETTO:-0600
RDATE:20181104T020000
RDATE:20191103T020000
END:STANDARD
BEGIN:DAYLIGHT
TZNAME:CDT
DTSTART:20180311T020000
TZOFFSETFROM:-0600
TZOFFSETTO:-0500
RDATE:20190310T020000
RDATE:20200308T020000
END:DAYLIGHT
END:VTIMEZONE
BEGIN:VEVENT
UID:dd0c1140-0ba1-4636-a0d9-4b06edf38fea
DTSTAMP:20260422T022756Z
DESCRIPTION:Annual CASA Sale!! All proceeds will benefit Trails West CASA's
  child advocacy efforts. If you have any questions\, feel free to contact 
 us at 308-284-9858. Donations are NOW being accepted!!
DTSTART;TZID=America/Chicago:20180920T080000
DTEND;TZID=America/Chicago:20180920T130000
LOCATION:Downtown Spruce Street Ogallala\, Nebraska 69153
SUMMARY:Annual CASA Sale
END:VEVENT
END:VCALENDAR
