BEGIN:VCALENDAR
VERSION:2.0
PRODID:-//www.nebraskacasa.org//NONSGML kigkonsult.se iCalcreator 2.30.10//
CALSCALE:GREGORIAN
METHOD:PUBLISH
UID:6264fca4-55ea-4872-b6ad-d31013fefeb2
X-WR-CALDESC:Annual CASA Sale!! All proceeds will benefit Trails West CASA'
 s child advocacy efforts. If you have any questions\, feel free to contact
  us at 308-284-9858. Donations are NOW being accepted!!
X-WR-RELCALID:e423767cc3e45b64283a4de30826e428
X-WR-TIMEZONE:America/Chicago
BEGIN:VTIMEZONE
TZID:America/Chicago
BEGIN:STANDARD
TZNAME:CST
DTSTART:20171105T020000
TZOFFSETFROM:-0500
TZOFFSETTO:-0600
RDATE:20181104T020000
RDATE:20191103T020000
END:STANDARD
BEGIN:DAYLIGHT
TZNAME:CDT
DTSTART:20180311T020000
TZOFFSETFROM:-0600
TZOFFSETTO:-0500
RDATE:20190310T020000
RDATE:20200308T020000
END:DAYLIGHT
END:VTIMEZONE
BEGIN:VEVENT
UID:a3943b40-b88c-43a9-a52e-c27ce30149c4
DTSTAMP:20260422T022451Z
DESCRIPTION:Annual CASA Sale!! All proceeds will benefit Trails West CASA's
  child advocacy efforts. If you have any questions\, feel free to contact 
 us at 308-284-9858. Donations are NOW being accepted!!
DTSTART;TZID=America/Chicago:20180921T080000
DTEND;TZID=America/Chicago:20180921T130000
LOCATION:Downtown Spruce Street Ogallala\, Nebraska 69153
SUMMARY:Annual CASA Sale
END:VEVENT
END:VCALENDAR
