BEGIN:VCALENDAR
VERSION:2.0
PRODID:-//www.nebraskacasa.org//NONSGML kigkonsult.se iCalcreator 2.30.10//
CALSCALE:GREGORIAN
METHOD:PUBLISH
UID:4d5c53fb-3d99-4d1c-ae8e-7c7f491167f3
X-WR-CALDESC:Call us now to reserve your ticket to the annual Light of Hope
  breakfast. Join us for breakfast and help us celebrate the successes of C
 ASA and learn about how you can support CASA as we continue our quest to b
 e the VOICES of abused children in Lincoln County.
X-WR-RELCALID:0c909d970434d055c837c4cf5f049588
X-WR-TIMEZONE:America/Chicago
BEGIN:VTIMEZONE
TZID:America/Chicago
BEGIN:STANDARD
TZNAME:CST
DTSTART:20171105T020000
TZOFFSETFROM:-0500
TZOFFSETTO:-0600
RDATE:20181104T020000
RDATE:20191103T020000
END:STANDARD
BEGIN:DAYLIGHT
TZNAME:CDT
DTSTART:20180311T020000
TZOFFSETFROM:-0600
TZOFFSETTO:-0500
RDATE:20190310T020000
RDATE:20200308T020000
END:DAYLIGHT
END:VTIMEZONE
BEGIN:VEVENT
UID:fdf5ffce-c830-4efc-8845-168ec2ae9ba9
DTSTAMP:20260422T020742Z
DESCRIPTION:Call us now to reserve your ticket to the annual Light of Hope 
 breakfast. Join us for breakfast and help us celebrate the successes of CA
 SA and learn about how you can support CASA as we continue our quest to be
  the VOICES of abused children in Lincoln County.
DTSTART;TZID=America/Chicago:20180927T070000
DTEND;TZID=America/Chicago:20180927T075000
LOCATION:pin Prairie Arts Center 416 N Jeffers St\, North Platte\, Nebraska
  69101
SUMMARY:Light of Hope Breakfast - Lincoln County
END:VEVENT
END:VCALENDAR
