BEGIN:VCALENDAR
VERSION:2.0
PRODID:-//www.nebraskacasa.org//NONSGML kigkonsult.se iCalcreator 2.30.10//
CALSCALE:GREGORIAN
METHOD:PUBLISH
UID:ac7f2995-8547-4e69-a91b-3f7d26bf28e5
X-WR-CALDESC:
X-WR-RELCALID:9ac9dd6a072145889b9a3c46d24c479d
X-WR-TIMEZONE:America/Chicago
BEGIN:VTIMEZONE
TZID:America/Chicago
BEGIN:STANDARD
TZNAME:CST
DTSTART:20171105T020000
TZOFFSETFROM:-0500
TZOFFSETTO:-0600
RDATE:20181104T020000
RDATE:20191103T020000
END:STANDARD
BEGIN:DAYLIGHT
TZNAME:CDT
DTSTART:20180311T020000
TZOFFSETFROM:-0600
TZOFFSETTO:-0500
RDATE:20190310T020000
RDATE:20200308T020000
END:DAYLIGHT
END:VTIMEZONE
BEGIN:VEVENT
UID:3ebd4b08-cb64-4b21-9d1e-020fb1546835
DTSTAMP:20260422T010843Z
DESCRIPTION:
DTSTART;TZID=America/Chicago:20181006T100000
DTEND;TZID=America/Chicago:20181006T120000
LOCATION:McCook\, Nebraska
SUMMARY:9th Annual Disc Golf Tournament
END:VEVENT
END:VCALENDAR
