BEGIN:VCALENDAR
VERSION:2.0
PRODID:-//www.nebraskacasa.org//NONSGML kigkonsult.se iCalcreator 2.30.10//
CALSCALE:GREGORIAN
METHOD:PUBLISH
UID:1e3c21d7-9f09-4282-8da0-e37656a976eb
X-WR-CALDESC:We will be holding a NEW CASA Volunteer training in October in
  Kearney. If you are interested\, please call us at 308-865-5675. As part 
 of the application process\, we do an interview\, 3 references\, and a ful
 l background check.
X-WR-RELCALID:bbd3c68b00009656d8d47f38384e887d
X-WR-TIMEZONE:America/Chicago
BEGIN:VTIMEZONE
TZID:America/Chicago
BEGIN:STANDARD
TZNAME:CST
DTSTART:20171105T020000
TZOFFSETFROM:-0500
TZOFFSETTO:-0600
RDATE:20181104T020000
RDATE:20191103T020000
END:STANDARD
BEGIN:DAYLIGHT
TZNAME:CDT
DTSTART:20180311T020000
TZOFFSETFROM:-0600
TZOFFSETTO:-0500
RDATE:20190310T020000
RDATE:20200308T020000
END:DAYLIGHT
END:VTIMEZONE
BEGIN:VEVENT
UID:104bfda6-b3a2-443c-bd99-9ec9ff0f3c26
DTSTAMP:20260422T004509Z
DESCRIPTION:We will be holding a NEW CASA Volunteer training in October in 
 Kearney. If you are interested\, please call us at 308-865-5675. As part o
 f the application process\, we do an interview\, 3 references\, and a full
  background check.
DTSTART;TZID=America/Chicago:20181009T173000
DTEND;TZID=America/Chicago:20181009T213000
LOCATION:
SUMMARY:New Volunteer Training - Kearney
END:VEVENT
END:VCALENDAR
