BEGIN:VCALENDAR
VERSION:2.0
PRODID:-//www.nebraskacasa.org//NONSGML kigkonsult.se iCalcreator 2.30.10//
CALSCALE:GREGORIAN
METHOD:PUBLISH
UID:9832083d-54c6-4eb5-bc45-a32320e87ab8
X-WR-CALDESC:We will be holding a NEW CASA Volunteer training in October in
  Kearney. If you are interested\, please call us at 308-865-5675. As part 
 of the application process\, we do an interview\, 3 references\, and a ful
 l background check.
X-WR-RELCALID:7078356a0ba73e0c5915bdef333f4f70
X-WR-TIMEZONE:America/Chicago
BEGIN:VTIMEZONE
TZID:America/Chicago
BEGIN:STANDARD
TZNAME:CST
DTSTART:20171105T020000
TZOFFSETFROM:-0500
TZOFFSETTO:-0600
RDATE:20181104T020000
RDATE:20191103T020000
END:STANDARD
BEGIN:DAYLIGHT
TZNAME:CDT
DTSTART:20180311T020000
TZOFFSETFROM:-0600
TZOFFSETTO:-0500
RDATE:20190310T020000
RDATE:20200308T020000
END:DAYLIGHT
END:VTIMEZONE
BEGIN:VEVENT
UID:5648ff45-7cde-45aa-8106-bd6f321a3749
DTSTAMP:20260422T004259Z
DESCRIPTION:We will be holding a NEW CASA Volunteer training in October in 
 Kearney. If you are interested\, please call us at 308-865-5675. As part o
 f the application process\, we do an interview\, 3 references\, and a full
  background check.
DTSTART;TZID=America/Chicago:20181018T173000
DTEND;TZID=America/Chicago:20181018T213000
LOCATION:
SUMMARY:New Volunteer Training - Kearney
END:VEVENT
END:VCALENDAR
