BEGIN:VCALENDAR
VERSION:2.0
PRODID:-//www.nebraskacasa.org//NONSGML kigkonsult.se iCalcreator 2.30.10//
CALSCALE:GREGORIAN
METHOD:PUBLISH
UID:7207cc03-0932-43e2-b296-759806dccfb9
X-WR-CALDESC:Please join CASA Volunteers\, staff and anyone interested in l
 earning more about CASA for Douglas County for an informal get together an
 d social time.\n
X-WR-RELCALID:d9947c463410b2981def9f6938f4041c
X-WR-TIMEZONE:America/Chicago
BEGIN:VTIMEZONE
TZID:America/Chicago
BEGIN:STANDARD
TZNAME:CST
DTSTART:20171105T020000
TZOFFSETFROM:-0500
TZOFFSETTO:-0600
RDATE:20181104T020000
RDATE:20191103T020000
END:STANDARD
BEGIN:DAYLIGHT
TZNAME:CDT
DTSTART:20180311T020000
TZOFFSETFROM:-0600
TZOFFSETTO:-0500
RDATE:20190310T020000
RDATE:20200308T020000
END:DAYLIGHT
END:VTIMEZONE
BEGIN:VEVENT
UID:cc931da0-106b-4cf3-8b47-7e77ed558838
DTSTAMP:20260422T004141Z
DESCRIPTION:Please join CASA Volunteers\, staff and anyone interested in le
 arning more about CASA for Douglas County for an informal get together and
  social time.\n
DTSTART;TZID=America/Chicago:20181018T170000
DTEND;TZID=America/Chicago:20181018T190000
LOCATION:pin Local Beer\, Patio\, and Kitchen - Millard 4909 S 135th St\, O
 maha\, Nebraska 68137
SUMMARY:CASA Cocktails
END:VEVENT
END:VCALENDAR
