BEGIN:VCALENDAR
VERSION:2.0
PRODID:-//www.nebraskacasa.org//NONSGML kigkonsult.se iCalcreator 2.30.10//
CALSCALE:GREGORIAN
METHOD:PUBLISH
UID:de58fe87-881a-456d-937e-bc3a34f9c087
X-WR-CALDESC:New Volunteer Training – Flexible Training October-November 20
 18 Schedule subject to change – but probably won’t! All training sessions 
 will be held at CASA for Lancaster County 1141 H Street\, Suite C\, 3rd Fl
 oor Parking behind the building (south)\; please use west door\, Take the 
 stairs to 3rd floor. Trainers: Dawn Rockey\, Kristi Morrow\, Krista Burks\
 , and Amanda Conradt \n \n \nWe will meet once a week for 5 weeks on Tuesd
 ay evenings from 6:00PM to 9:00PM in addition to the shorter orientation s
 ession on Tuesday\, October 2\, 2018.  \n\nSwearing-in: November 7\, 8\, o
 r 9 - TBD
X-WR-RELCALID:7a4b9da35f3601d17b2be61a953df6e2
X-WR-TIMEZONE:America/Chicago
BEGIN:VTIMEZONE
TZID:America/Chicago
BEGIN:STANDARD
TZNAME:CST
DTSTART:20171105T020000
TZOFFSETFROM:-0500
TZOFFSETTO:-0600
RDATE:20181104T020000
RDATE:20191103T020000
END:STANDARD
BEGIN:DAYLIGHT
TZNAME:CDT
DTSTART:20180311T020000
TZOFFSETFROM:-0600
TZOFFSETTO:-0500
RDATE:20190310T020000
RDATE:20200308T020000
END:DAYLIGHT
END:VTIMEZONE
BEGIN:VEVENT
UID:69033c21-9fb6-4f3a-bd25-79fe225d45ee
DTSTAMP:20260422T004906Z
DESCRIPTION:New Volunteer Training – Flexible Training October-November 201
 8 Schedule subject to change – but probably won’t! All training sessions w
 ill be held at CASA for Lancaster County 1141 H Street\, Suite C\, 3rd Flo
 or Parking behind the building (south)\; please use west door\, Take the s
 tairs to 3rd floor. Trainers: Dawn Rockey\, Kristi Morrow\, Krista Burks\,
  and Amanda Conradt \n \n \nWe will meet once a week for 5 weeks on Tuesda
 y evenings from 6:00PM to 9:00PM in addition to the shorter orientation se
 ssion on Tuesday\, October 2\, 2018.  \n\nSwearing-in: November 7\, 8\, or
  9 - TBD
DTSTART;TZID=America/Chicago:20181023T180000
DTEND;TZID=America/Chicago:20181023T210000
LOCATION:CASA for Lancaster County   1141 H Street\, Suite C   Lincoln\, NE
  68508
SUMMARY:New Volunteer Training Lancaster County
END:VEVENT
END:VCALENDAR
