BEGIN:VCALENDAR
VERSION:2.0
PRODID:-//www.nebraskacasa.org//NONSGML kigkonsult.se iCalcreator 2.30.10//
CALSCALE:GREGORIAN
METHOD:PUBLISH
UID:0148b45e-b5d2-4fd8-9f7c-86f639c3ac56
X-WR-CALDESC:Support Heartland CASA at the 7th Annual Heartland CASA Design
  & Desserts Thursday Nov 1st 2018 at 7pm at the Balz Reception Hall 213 N 
 Sycamore St\, Grand Island.
X-WR-RELCALID:9830c41c130ccd0a1e989f3264c852fb
X-WR-TIMEZONE:America/Chicago
BEGIN:VTIMEZONE
TZID:America/Chicago
BEGIN:STANDARD
TZNAME:CST
DTSTART:20171105T020000
TZOFFSETFROM:-0500
TZOFFSETTO:-0600
RDATE:20181104T020000
RDATE:20191103T020000
END:STANDARD
BEGIN:DAYLIGHT
TZNAME:CDT
DTSTART:20180311T020000
TZOFFSETFROM:-0600
TZOFFSETTO:-0500
RDATE:20190310T020000
RDATE:20200308T020000
END:DAYLIGHT
END:VTIMEZONE
BEGIN:VEVENT
UID:2d665384-ec29-4789-9192-e9d8bf3d2e15
DTSTAMP:20260421T231251Z
DESCRIPTION:Support Heartland CASA at the 7th Annual Heartland CASA Design 
 & Desserts Thursday Nov 1st 2018 at 7pm at the Balz Reception Hall 213 N S
 ycamore St\, Grand Island.
DTSTART;TZID=America/Chicago:20181101T190000
DTEND;TZID=America/Chicago:20181101T210000
LOCATION:Balz Reception Hall in Grand Island
SUMMARY:Heartland CASA Design & Deserts
END:VEVENT
END:VCALENDAR
