BEGIN:VCALENDAR
VERSION:2.0
PRODID:-//www.nebraskacasa.org//NONSGML kigkonsult.se iCalcreator 2.30.10//
CALSCALE:GREGORIAN
METHOD:PUBLISH
UID:20d0b763-9d76-4cbd-9a30-cd8f7bd9285d
X-WR-CALDESC:Give Where You're Planted: Join us for 24 hours of GIVING to b
 enefit our local communities and make a difference! WyoBraska Gives Day is
  an annual statewide movement to celebrate and increase philanthropy in Wy
 oming and Nebraska through online giving. WyoBraska GIVES brings the regio
 n together as one community\, raising money and awareness for our local no
 nprofits during the 24-hour online giving challenge. PlainsWest CASA and C
 ASA of Scotts Bluff County are both participtating in this event.  For it'
 s first year\, WyoBraska Gives Day is on November 13th.\n\n\n
X-WR-RELCALID:77c7845cee1c034ab1a5f3259adb232e
X-WR-TIMEZONE:America/Chicago
BEGIN:VTIMEZONE
TZID:America/Chicago
BEGIN:STANDARD
TZNAME:CST
DTSTART:20181104T020000
TZOFFSETFROM:-0500
TZOFFSETTO:-0600
RDATE:20191103T020000
END:STANDARD
BEGIN:DAYLIGHT
TZNAME:CDT
DTSTART:20180311T020000
TZOFFSETFROM:-0600
TZOFFSETTO:-0500
RDATE:20190310T020000
RDATE:20200308T020000
END:DAYLIGHT
END:VTIMEZONE
BEGIN:VEVENT
UID:0a329576-eb9f-4d22-a984-3ef179c6e63e
DTSTAMP:20260421T231101Z
DESCRIPTION:Give Where You're Planted: Join us for 24 hours of GIVING to be
 nefit our local communities and make a difference! WyoBraska Gives Day is 
 an annual statewide movement to celebrate and increase philanthropy in Wyo
 ming and Nebraska through online giving. WyoBraska GIVES brings the region
  together as one community\, raising money and awareness for our local non
 profits during the 24-hour online giving challenge. PlainsWest CASA and CA
 SA of Scotts Bluff County are both participtating in this event.  For it's
  first year\, WyoBraska Gives Day is on November 13th.\n\n\n
DTSTART;TZID=America/Chicago:20181113T000000
DTEND;TZID=America/Chicago:20181114T000000
LOCATION:
SUMMARY:WyoBraska Gives
END:VEVENT
END:VCALENDAR
