BEGIN:VCALENDAR
VERSION:2.0
PRODID:-//www.nebraskacasa.org//NONSGML kigkonsult.se iCalcreator 2.30.10//
CALSCALE:GREGORIAN
METHOD:PUBLISH
UID:bdc95634-bd99-4640-bc38-de43d641405b
X-WR-CALDESC:GBL '18 is Thursday\, November 15\, 2018. This 24-hour day of 
 giving showcases local causes that make this community a more vital place 
 to live. You're encouraged to give to those that mean the most to you and 
 your family. You can support Dawson/Gosper County CASA during this event.
X-WR-RELCALID:ff49536550fac06ee3df440a6eb90b50
X-WR-TIMEZONE:America/Chicago
BEGIN:VTIMEZONE
TZID:America/Chicago
BEGIN:STANDARD
TZNAME:CST
DTSTART:20181104T020000
TZOFFSETFROM:-0500
TZOFFSETTO:-0600
RDATE:20191103T020000
END:STANDARD
BEGIN:DAYLIGHT
TZNAME:CDT
DTSTART:20180311T020000
TZOFFSETFROM:-0600
TZOFFSETTO:-0500
RDATE:20190310T020000
RDATE:20200308T020000
END:DAYLIGHT
END:VTIMEZONE
BEGIN:VEVENT
UID:d61f11d8-054c-48bf-8f90-8ee0cac7af27
DTSTAMP:20260421T230938Z
DESCRIPTION:GBL '18 is Thursday\, November 15\, 2018. This 24-hour day of g
 iving showcases local causes that make this community a more vital place t
 o live. You're encouraged to give to those that mean the most to you and y
 our family. You can support Dawson/Gosper County CASA during this event.
DTSTART;TZID=America/Chicago:20181115T000000
DTEND;TZID=America/Chicago:20181116T000000
LOCATION:
SUMMARY:Big Give Lexington
END:VEVENT
END:VCALENDAR
