BEGIN:VCALENDAR
VERSION:2.0
PRODID:-//www.nebraskacasa.org//NONSGML kigkonsult.se iCalcreator 2.30.10//
CALSCALE:GREGORIAN
METHOD:PUBLISH
UID:5ab16125-4383-4797-96d2-318e74646a9b
X-WR-CALDESC:The McCook Big Give is a 24 hour period of giving where McCook
  area supporters are invited to give back to their favorite local charitie
 s and educate themselves on other non-profits available in our community. 
 \n\n\nThe goal of this area wide giving event is to match McCook area supp
 orters’ passions and generosity with our local nonprofit organizations alr
 eady doing great work. Through the combined participation of all people wh
 o love and care about the McCook area\, we can significantly impact the fu
 ture of our beloved community\n\n\nBig Give McCook will run from midnight 
 to midnight on Thursday November 15th 2018.\n\n\nDonors mark which organiz
 ations(s) they would like to support and all funds are provided to the app
 ropriate group. In addition a bonus funds program is created using sponsor
  dollars. These funds are divided among organizations based on the program
  requirements and help to make each donation even more valuable.
X-WR-RELCALID:e0d956ecfa0efd0249eefd84dff9def2
X-WR-TIMEZONE:America/Chicago
BEGIN:VTIMEZONE
TZID:America/Chicago
BEGIN:STANDARD
TZNAME:CST
DTSTART:20181104T020000
TZOFFSETFROM:-0500
TZOFFSETTO:-0600
RDATE:20191103T020000
END:STANDARD
BEGIN:DAYLIGHT
TZNAME:CDT
DTSTART:20180311T020000
TZOFFSETFROM:-0600
TZOFFSETTO:-0500
RDATE:20190310T020000
RDATE:20200308T020000
END:DAYLIGHT
END:VTIMEZONE
BEGIN:VEVENT
UID:4e2bde29-30e2-4f31-9a0a-7b8b3e9b4ca4
DTSTAMP:20260421T231511Z
DESCRIPTION:The McCook Big Give is a 24 hour period of giving where McCook 
 area supporters are invited to give back to their favorite local charities
  and educate themselves on other non-profits available in our community. 
 \n\n\nThe goal of this area wide giving event is to match McCook area supp
 orters’ passions and generosity with our local nonprofit organizations alr
 eady doing great work. Through the combined participation of all people wh
 o love and care about the McCook area\, we can significantly impact the fu
 ture of our beloved community\n\n\nBig Give McCook will run from midnight 
 to midnight on Thursday November 15th 2018.\n\n\nDonors mark which organiz
 ations(s) they would like to support and all funds are provided to the app
 ropriate group. In addition a bonus funds program is created using sponsor
  dollars. These funds are divided among organizations based on the program
  requirements and help to make each donation even more valuable.
DTSTART;TZID=America/Chicago:20181115T000000
DTEND;TZID=America/Chicago:20181116T000000
LOCATION:
SUMMARY:Big Give McCook
END:VEVENT
END:VCALENDAR
