BEGIN:VCALENDAR
VERSION:2.0
PRODID:-//www.nebraskacasa.org//NONSGML kigkonsult.se iCalcreator 2.30.10//
CALSCALE:GREGORIAN
METHOD:PUBLISH
UID:33e42102-3341-4d3e-8582-f2d4c3ab8a31
X-WR-CALDESC:
X-WR-RELCALID:32c860fcd1e7cb5582df81bd31260830
X-WR-TIMEZONE:America/Chicago
BEGIN:VTIMEZONE
TZID:America/Chicago
BEGIN:STANDARD
TZNAME:CST
DTSTART:20181104T020000
TZOFFSETFROM:-0500
TZOFFSETTO:-0600
RDATE:20191103T020000
END:STANDARD
BEGIN:DAYLIGHT
TZNAME:CDT
DTSTART:20180311T020000
TZOFFSETFROM:-0600
TZOFFSETTO:-0500
RDATE:20190310T020000
RDATE:20200308T020000
END:DAYLIGHT
END:VTIMEZONE
BEGIN:VEVENT
UID:a94e6077-c24d-4ba0-8110-f11ee8e762f3
DTSTAMP:20260421T231129Z
DESCRIPTION:
DTSTART;TZID=America/Chicago:20181115T170000
DTEND;TZID=America/Chicago:20181115T190000
LOCATION:Legends Aksarben 6920 Pacific street Suite 100\, Omaha\, Nebraska 
 68106
SUMMARY:CASA Cocktails
END:VEVENT
END:VCALENDAR
