BEGIN:VCALENDAR
VERSION:2.0
PRODID:-//www.nebraskacasa.org//NONSGML kigkonsult.se iCalcreator 2.30.10//
CALSCALE:GREGORIAN
METHOD:PUBLISH
UID:e9f9dd1a-073a-484d-9ffb-6a00e3031a17
X-WR-CALDESC:Join us for Coffee & Contacts at Sparetime Lounge on November 
 27th from 7:30-9:00. Learn about CASA\, and enjoy coffee and cinnamon roll
 s! Please help spread the word!\n\nHosted by Southeast Nebraska CASA & Spa
 retime Lounge & Grill
X-WR-RELCALID:44d778c2c62bffe0622887c7301cf386
X-WR-TIMEZONE:America/Chicago
BEGIN:VTIMEZONE
TZID:America/Chicago
BEGIN:STANDARD
TZNAME:CST
DTSTART:20181104T020000
TZOFFSETFROM:-0500
TZOFFSETTO:-0600
RDATE:20191103T020000
END:STANDARD
BEGIN:DAYLIGHT
TZNAME:CDT
DTSTART:20180311T020000
TZOFFSETFROM:-0600
TZOFFSETTO:-0500
RDATE:20190310T020000
RDATE:20200308T020000
END:DAYLIGHT
END:VTIMEZONE
BEGIN:VEVENT
UID:6fb96ed1-890c-4f12-979d-83cd3f818ea7
DTSTAMP:20260421T230939Z
DESCRIPTION:Join us for Coffee & Contacts at Sparetime Lounge on November 2
 7th from 7:30-9:00. Learn about CASA\, and enjoy coffee and cinnamon rolls
 ! Please help spread the word!\n\nHosted by Southeast Nebraska CASA & Spar
 etime Lounge & Grill
DTSTART;TZID=America/Chicago:20181127T073000
DTEND;TZID=America/Chicago:20181127T090000
LOCATION:Sparetime Lounge & Grill\,119 S 4th\, Seward\, NE
SUMMARY:Coffee & Contacts
END:VEVENT
END:VCALENDAR
