BEGIN:VCALENDAR
VERSION:2.0
PRODID:-//www.nebraskacasa.org//NONSGML kigkonsult.se iCalcreator 2.30.10//
CALSCALE:GREGORIAN
METHOD:PUBLISH
UID:02bd346b-6036-4270-b1b7-0484ae9c280a
X-WR-CALDESC:We've got your dinner covered on December 1st! Head downtown t
 o Hickory Square to get yourself a bowl of chili and a cinnamon roll while
  you celebrate Holidays in Hickory Square and watch the Parade of Lights. 
 Food will be served starting at 4pm and will continue throughout parade an
 d the arrival of Santa\, until we run out. Tickets are $5 each. \n\n100% o
 f proceeds support PlainsWest CASA.
X-WR-RELCALID:e250b7bbfc1bd17f6820d28332c00022
X-WR-TIMEZONE:America/Chicago
BEGIN:VTIMEZONE
TZID:America/Chicago
BEGIN:STANDARD
TZNAME:CST
DTSTART:20181104T020000
TZOFFSETFROM:-0500
TZOFFSETTO:-0600
RDATE:20191103T020000
END:STANDARD
BEGIN:DAYLIGHT
TZNAME:CDT
DTSTART:20180311T020000
TZOFFSETFROM:-0600
TZOFFSETTO:-0500
RDATE:20190310T020000
RDATE:20200308T020000
END:DAYLIGHT
END:VTIMEZONE
BEGIN:VEVENT
UID:6698941e-bd02-43f6-803b-7f21696d5fd7
DTSTAMP:20260421T213422Z
DESCRIPTION:We've got your dinner covered on December 1st! Head downtown to
  Hickory Square to get yourself a bowl of chili and a cinnamon roll while 
 you celebrate Holidays in Hickory Square and watch the Parade of Lights. F
 ood will be served starting at 4pm and will continue throughout parade and
  the arrival of Santa\, until we run out. Tickets are $5 each. \n\n100% of
  proceeds support PlainsWest CASA.
DTSTART;TZID=America/Chicago:20181201T160000
DTEND;TZID=America/Chicago:20181201T193000
LOCATION:pin Downtown Hickory Square\, Sidney\, Nebraska
SUMMARY:Chili for CASA
END:VEVENT
END:VCALENDAR
