BEGIN:VCALENDAR
VERSION:2.0
PRODID:-//www.nebraskacasa.org//NONSGML kigkonsult.se iCalcreator 2.30.10//
CALSCALE:GREGORIAN
METHOD:PUBLISH
UID:e29705f8-a530-4412-b6d0-71de4c266706
X-WR-CALDESC:Enjoy some holiday cheer with your friends from CASA! All are 
 invited to this informal networking happy hour. It's a great opportunity t
 o get to know CASA volunteers and staff and to learn about how to make an 
 impact in the lives of children in foster care. Stop in anytime between 5:
 00-7:00 pm at Culprit Cafe\, Midtown Crossing. Free parking is available i
 n the Midtown Crossing garage - just remember to bring in your ticket to b
 e validated. Happy hour specials will be available. We look forward to see
 ing you!
X-WR-RELCALID:e20867c7787a998227abea9de1987452
X-WR-TIMEZONE:America/Chicago
BEGIN:VTIMEZONE
TZID:America/Chicago
BEGIN:STANDARD
TZNAME:CST
DTSTART:20181104T020000
TZOFFSETFROM:-0500
TZOFFSETTO:-0600
RDATE:20191103T020000
END:STANDARD
BEGIN:DAYLIGHT
TZNAME:CDT
DTSTART:20180311T020000
TZOFFSETFROM:-0600
TZOFFSETTO:-0500
RDATE:20190310T020000
RDATE:20200308T020000
END:DAYLIGHT
END:VTIMEZONE
BEGIN:VEVENT
UID:c312708b-ab62-4443-bc50-c27554ebb3d1
DTSTAMP:20260421T213140Z
DESCRIPTION:Enjoy some holiday cheer with your friends from CASA! All are i
 nvited to this informal networking happy hour. It's a great opportunity to
  get to know CASA volunteers and staff and to learn about how to make an i
 mpact in the lives of children in foster care. Stop in anytime between 5:0
 0-7:00 pm at Culprit Cafe\, Midtown Crossing. Free parking is available in
  the Midtown Crossing garage - just remember to bring in your ticket to be
  validated. Happy hour specials will be available. We look forward to seei
 ng you!
DTSTART;TZID=America/Chicago:20181220T170000
DTEND;TZID=America/Chicago:20181220T190000
LOCATION:Culprit Cafe and Bakery (Midtown) 3201 Farnam St. #6112\, Omaha\, 
 Nebraska 68131
SUMMARY:CASA Cocktails
END:VEVENT
END:VCALENDAR
