BEGIN:VCALENDAR
VERSION:2.0
PRODID:-//www.nebraskacasa.org//NONSGML kigkonsult.se iCalcreator 2.30.10//
CALSCALE:GREGORIAN
METHOD:PUBLISH
UID:ed05f0b8-00a0-42ef-a1e0-3588e8adfa50
X-WR-CALDESC:Men in Tights is a beauty contest from gentleman in the commun
 ity\, dressed up in evening wear. They compete for the crown of Miss CASA 
 by adoing a group dance\, nswering some questions and doing a talent. This
  evening is full of lots of fun\, laughs\, great company and great food. T
 his is a fundraiser to help raise money for the Kearney/Buffalo County CAS
 A program which helps children who are in foster care and part of the cour
 t system.
X-WR-RELCALID:26e8ff9e97a070e8dd7eb7e3c68319a3
X-WR-TIMEZONE:America/Chicago
BEGIN:VTIMEZONE
TZID:America/Chicago
BEGIN:STANDARD
TZNAME:CST
DTSTART:20181104T020000
TZOFFSETFROM:-0500
TZOFFSETTO:-0600
RDATE:20191103T020000
END:STANDARD
BEGIN:DAYLIGHT
TZNAME:CDT
DTSTART:20180311T020000
TZOFFSETFROM:-0600
TZOFFSETTO:-0500
RDATE:20190310T020000
RDATE:20200308T020000
END:DAYLIGHT
END:VTIMEZONE
BEGIN:VEVENT
UID:65a6de59-4ffb-4d00-9b3f-1f2c60eac335
DTSTAMP:20260421T183550Z
DESCRIPTION:Men in Tights is a beauty contest from gentleman in the communi
 ty\, dressed up in evening wear. They compete for the crown of Miss CASA b
 y adoing a group dance\, nswering some questions and doing a talent. This 
 evening is full of lots of fun\, laughs\, great company and great food. Th
 is is a fundraiser to help raise money for the Kearney/Buffalo County CASA
  program which helps children who are in foster care and part of the court
  system.
DTSTART;TZID=America/Chicago:20190208T180000
DTEND;TZID=America/Chicago:20190208T210000
LOCATION:Younes Hospitality 104 3rd Ave\, Kearney\, Nebraska 68845
SUMMARY:Men in Tights
END:VEVENT
END:VCALENDAR
