BEGIN:VCALENDAR
VERSION:2.0
PRODID:-//www.nebraskacasa.org//NONSGML kigkonsult.se iCalcreator 2.30.10//
CALSCALE:GREGORIAN
METHOD:PUBLISH
UID:f96524a0-25f5-4836-9991-72e88b18af16
X-WR-CALDESC:
X-WR-RELCALID:03a07ee780cf6d09b38c13df869ed2e1
X-WR-TIMEZONE:America/Chicago
BEGIN:VTIMEZONE
TZID:America/Chicago
BEGIN:STANDARD
TZNAME:CST
DTSTART:20181104T020000
TZOFFSETFROM:-0500
TZOFFSETTO:-0600
RDATE:20191103T020000
END:STANDARD
BEGIN:DAYLIGHT
TZNAME:CDT
DTSTART:20180311T020000
TZOFFSETFROM:-0600
TZOFFSETTO:-0500
RDATE:20190310T020000
RDATE:20200308T020000
END:DAYLIGHT
END:VTIMEZONE
BEGIN:VEVENT
UID:39beaff3-88f9-40c4-bc07-aacb166a5b94
DTSTAMP:20260421T182700Z
DESCRIPTION:
DTSTART;TZID=America/Chicago:20190214T073000
DTEND;TZID=America/Chicago:20190214T090000
LOCATION:Ferguson House\, Lincoln NE
SUMMARY:Legislative Breakfast
END:VEVENT
END:VCALENDAR
