BEGIN:VCALENDAR
VERSION:2.0
PRODID:-//www.nebraskacasa.org//NONSGML kigkonsult.se iCalcreator 2.30.10//
CALSCALE:GREGORIAN
METHOD:PUBLISH
UID:bfc43b69-6609-4b45-8cbb-1fe60b2fd8f6
X-WR-CALDESC:
X-WR-RELCALID:52027a221b836d186023ec030d94902a
X-WR-TIMEZONE:America/Chicago
BEGIN:VTIMEZONE
TZID:America/Chicago
BEGIN:STANDARD
TZNAME:CST
DTSTART:20181104T020000
TZOFFSETFROM:-0500
TZOFFSETTO:-0600
RDATE:20191103T020000
END:STANDARD
BEGIN:DAYLIGHT
TZNAME:CDT
DTSTART:20190310T020000
TZOFFSETFROM:-0600
TZOFFSETTO:-0500
RDATE:20200308T020000
END:DAYLIGHT
END:VTIMEZONE
BEGIN:VEVENT
UID:f29ed6e5-879d-47af-808a-8fa12bbae6ea
DTSTAMP:20260421T172752Z
DESCRIPTION:
DTSTART;TZID=America/Chicago:20190321T180000
DTEND;TZID=America/Chicago:20190321T210000
LOCATION:Phelps County Ag Center
SUMMARY:Men in Tights
END:VEVENT
END:VCALENDAR
