BEGIN:VCALENDAR
VERSION:2.0
PRODID:-//www.nebraskacasa.org//NONSGML kigkonsult.se iCalcreator 2.30.10//
CALSCALE:GREGORIAN
METHOD:PUBLISH
UID:cf8c09c4-046f-4400-93c0-e5e530664e54
X-WR-CALDESC:Come out and Support Lincoln County CASA. \n\nDay of registrat
 ion - 4PM\nSuperhero 5K - 5 PM\nVillian Chase (fun mile) - 5:45 PM\nKids C
 arnival - 6PM (weather permitting)\nPrizes for top placers of race and bes
 t costumes!! \n\nEvery kid needs a hero....but abused kids need Superheros
 !!\n\nThis race is part of the Platte River Fitness Series register at pla
 tteriverfitness.com or paper registration at the REC center. Register by M
 arch 23rd to guaranty your shirt for race day.
X-WR-RELCALID:c618f1de0e1c08e00222b4ca5e1af760
X-WR-TIMEZONE:America/Chicago
BEGIN:VTIMEZONE
TZID:America/Chicago
BEGIN:STANDARD
TZNAME:CST
DTSTART:20181104T020000
TZOFFSETFROM:-0500
TZOFFSETTO:-0600
RDATE:20191103T020000
END:STANDARD
BEGIN:DAYLIGHT
TZNAME:CDT
DTSTART:20190310T020000
TZOFFSETFROM:-0600
TZOFFSETTO:-0500
RDATE:20200308T020000
END:DAYLIGHT
END:VTIMEZONE
BEGIN:VEVENT
UID:5ee6e006-f4e6-4c28-b5cb-907af6d24443
DTSTAMP:20260421T170623Z
DESCRIPTION:Come out and Support Lincoln County CASA. \n\nDay of registrati
 on - 4PM\nSuperhero 5K - 5 PM\nVillian Chase (fun mile) - 5:45 PM\nKids Ca
 rnival - 6PM (weather permitting)\nPrizes for top placers of race and best
  costumes!! \n\nEvery kid needs a hero....but abused kids need Superheros!
 !\n\nThis race is part of the Platte River Fitness Series register at plat
 teriverfitness.com or paper registration at the REC center. Register by Ma
 rch 23rd to guaranty your shirt for race day.
DTSTART;TZID=America/Chicago:20190328T090000
DTEND;TZID=America/Chicago:20190328T100000
LOCATION:Iron Horse Park S Jeffers St\, North Platte\, Nebraska 69101
SUMMARY:CASA Superhero 5K Run/Villian Chase 1 Mile
END:VEVENT
END:VCALENDAR
