BEGIN:VCALENDAR
VERSION:2.0
PRODID:-//www.nebraskacasa.org//NONSGML kigkonsult.se iCalcreator 2.30.10//
CALSCALE:GREGORIAN
METHOD:PUBLISH
UID:61c63698-dc3c-4ca1-9f6b-76a0b65e3cf3
X-WR-CALDESC:This 21 & over only event features hearty\, Lenten friendly ap
 petizers and a variety of beer and wine tastings for $20. Additional wine\
 , beer\, & water are also available for purchase. \n\nEnjoy a fun evening 
 while supporting a great cause— CASA Volunteers advocate for abused and ne
 glected foster children in our\ncommunities\, and your donations help us r
 ecruit those volunteers! \n
X-WR-RELCALID:ffc8a4e98c847a0b0715a5c558c469cb
X-WR-TIMEZONE:America/Chicago
BEGIN:VTIMEZONE
TZID:America/Chicago
BEGIN:STANDARD
TZNAME:CST
DTSTART:20181104T020000
TZOFFSETFROM:-0500
TZOFFSETTO:-0600
RDATE:20191103T020000
END:STANDARD
BEGIN:DAYLIGHT
TZNAME:CDT
DTSTART:20190310T020000
TZOFFSETFROM:-0600
TZOFFSETTO:-0500
RDATE:20200308T020000
END:DAYLIGHT
END:VTIMEZONE
BEGIN:VEVENT
UID:0dd8863f-fbcc-40c1-9ee0-0b4e38bdedf2
DTSTAMP:20260421T170608Z
DESCRIPTION:This 21 & over only event features hearty\, Lenten friendly app
 etizers and a variety of beer and wine tastings for $20. Additional wine\,
  beer\, & water are also available for purchase. \n\nEnjoy a fun evening w
 hile supporting a great cause— CASA Volunteers advocate for abused and neg
 lected foster children in our\ncommunities\, and your donations help us re
 cruit those volunteers! \n
DTSTART;TZID=America/Chicago:20190329T180000
DTEND;TZID=America/Chicago:20190329T220000
LOCATION:Henry on 11th 2523 11th St\, Columbus\, Nebraska 68601
SUMMARY:Cheers for CASA
END:VEVENT
END:VCALENDAR
