BEGIN:VCALENDAR
VERSION:2.0
PRODID:-//www.nebraskacasa.org//NONSGML kigkonsult.se iCalcreator 2.30.10//
CALSCALE:GREGORIAN
METHOD:PUBLISH
UID:115042af-b84b-44f1-859b-e736ecab2df6
X-WR-CALDESC:
X-WR-RELCALID:aba2eeac5565ce2e46335edb1bf8e0a3
X-WR-TIMEZONE:America/Chicago
BEGIN:VTIMEZONE
TZID:America/Chicago
BEGIN:STANDARD
TZNAME:CST
DTSTART:20181104T020000
TZOFFSETFROM:-0500
TZOFFSETTO:-0600
RDATE:20191103T020000
END:STANDARD
BEGIN:DAYLIGHT
TZNAME:CDT
DTSTART:20190310T020000
TZOFFSETFROM:-0600
TZOFFSETTO:-0500
RDATE:20200308T020000
END:DAYLIGHT
END:VTIMEZONE
BEGIN:VEVENT
UID:e7b0d6fb-0dd6-474e-8095-a3cd37da3fbe
DTSTAMP:20260421T153546Z
DESCRIPTION:
DTSTART;TZID=America/Chicago:20190412T080000
DTEND;TZID=America/Chicago:20190412T170000
LOCATION:Kearney\, Nebraska
SUMMARY:State Director's Meeting
END:VEVENT
END:VCALENDAR
