BEGIN:VCALENDAR
VERSION:2.0
PRODID:-//www.nebraskacasa.org//NONSGML kigkonsult.se iCalcreator 2.30.10//
CALSCALE:GREGORIAN
METHOD:PUBLISH
UID:5e05b824-df27-430b-96e1-556abffa5576
X-WR-CALDESC:\n
X-WR-RELCALID:2458f9da484fa3c140a2ca8b5d1a0318
X-WR-TIMEZONE:America/Chicago
BEGIN:VTIMEZONE
TZID:America/Chicago
BEGIN:STANDARD
TZNAME:CST
DTSTART:20181104T020000
TZOFFSETFROM:-0500
TZOFFSETTO:-0600
RDATE:20191103T020000
END:STANDARD
BEGIN:DAYLIGHT
TZNAME:CDT
DTSTART:20190310T020000
TZOFFSETFROM:-0600
TZOFFSETTO:-0500
RDATE:20200308T020000
END:DAYLIGHT
END:VTIMEZONE
BEGIN:VEVENT
UID:6d6253ea-7574-46e2-b6bd-d861c5d69c0f
DTSTAMP:20260421T153716Z
DESCRIPTION:\n
DTSTART;TZID=America/Chicago:20190413T090000
DTEND;TZID=America/Chicago:20190413T160000
LOCATION:Ramada Inn\, 301 Second Ave\, Kearney\, NE
SUMMARY:Nebraska CASA Statewide Conference 2019
END:VEVENT
END:VCALENDAR
