BEGIN:VCALENDAR
VERSION:2.0
PRODID:-//www.nebraskacasa.org//NONSGML kigkonsult.se iCalcreator 2.30.10//
CALSCALE:GREGORIAN
METHOD:PUBLISH
UID:fba1f1f8-3b11-416e-8c5b-c810a241e7b2
X-WR-CALDESC:Join us for a special CASA Cocktails in celebration of Nationa
 l Volunteer Month! All CASA Volunteers will be treated with appetizers\, a
  beverage\, and a special gift bag in appreciation of your tireless advoca
 cy for kids in foster care. If you are interested in learning more about b
 ecoming a CASA Volunteer\, this is the perfect opportunity to meet current
  volunteers and staff and be inspired by their advocacy. Stop in anytime b
 etween 5:00-7:00 pm. We look forward to seeing you!\n
X-WR-RELCALID:229cd080ba3a125d304e76c799c0ea59
X-WR-TIMEZONE:America/Chicago
BEGIN:VTIMEZONE
TZID:America/Chicago
BEGIN:STANDARD
TZNAME:CST
DTSTART:20181104T020000
TZOFFSETFROM:-0500
TZOFFSETTO:-0600
RDATE:20191103T020000
END:STANDARD
BEGIN:DAYLIGHT
TZNAME:CDT
DTSTART:20190310T020000
TZOFFSETFROM:-0600
TZOFFSETTO:-0500
RDATE:20200308T020000
END:DAYLIGHT
END:VTIMEZONE
BEGIN:VEVENT
UID:1cf189c1-9647-4046-934f-7ddba7377c51
DTSTAMP:20260421T154356Z
DESCRIPTION:Join us for a special CASA Cocktails in celebration of National
  Volunteer Month! All CASA Volunteers will be treated with appetizers\, a 
 beverage\, and a special gift bag in appreciation of your tireless advocac
 y for kids in foster care. If you are interested in learning more about be
 coming a CASA Volunteer\, this is the perfect opportunity to meet current 
 volunteers and staff and be inspired by their advocacy. Stop in anytime be
 tween 5:00-7:00 pm. We look forward to seeing you!\n
DTSTART;TZID=America/Chicago:20190418T170000
DTEND;TZID=America/Chicago:20190418T190000
LOCATION:Local Beer\, Patio\, and Kitchen - Millard 4909 S 135th St\, Omaha
 \, Nebraska 68137
SUMMARY:Volunteer Appreciation CASA Cocktails
END:VEVENT
END:VCALENDAR
