BEGIN:VCALENDAR
VERSION:2.0
PRODID:-//www.nebraskacasa.org//NONSGML kigkonsult.se iCalcreator 2.30.10//
CALSCALE:GREGORIAN
METHOD:PUBLISH
UID:7a04602f-5a79-4eab-ba32-86c765087131
X-WR-CALDESC:Looking for ways to (do)GOOD? Join Thrivinci and SHARE Omaha a
 t Flagship Commons in celebration of April's (do)GOOD month! Mix and mingl
 e with the local nonprofits who need your service the most. Visit with eac
 h nonprofit and learn more about their volunteer opportunities to determin
 e whether you are a match. Commit to volunteer in April and receive a free
  (do)GOOD tee while supplies last. Join us at the Volunteer & Beer Fair\, 
 commit to volunteer and sample a beer experience with Flagship Commons. Fl
 agship Commons is on the second floor of Westroads Mall next to the former
  Younkers.
X-WR-RELCALID:b6945016164c170bc972318999035cc9
X-WR-TIMEZONE:America/Chicago
BEGIN:VTIMEZONE
TZID:America/Chicago
BEGIN:STANDARD
TZNAME:CST
DTSTART:20181104T020000
TZOFFSETFROM:-0500
TZOFFSETTO:-0600
RDATE:20191103T020000
END:STANDARD
BEGIN:DAYLIGHT
TZNAME:CDT
DTSTART:20190310T020000
TZOFFSETFROM:-0600
TZOFFSETTO:-0500
RDATE:20200308T020000
END:DAYLIGHT
END:VTIMEZONE
BEGIN:VEVENT
UID:0518d9ce-e116-43bd-94db-099be24fa67b
DTSTAMP:20260421T153945Z
DESCRIPTION:Looking for ways to (do)GOOD? Join Thrivinci and SHARE Omaha at
  Flagship Commons in celebration of April's (do)GOOD month! Mix and mingle
  with the local nonprofits who need your service the most. Visit with each
  nonprofit and learn more about their volunteer opportunities to determine
  whether you are a match. Commit to volunteer in April and receive a free 
 (do)GOOD tee while supplies last. Join us at the Volunteer & Beer Fair\, c
 ommit to volunteer and sample a beer experience with Flagship Commons. Fla
 gship Commons is on the second floor of Westroads Mall next to the former 
 Younkers.
DTSTART;TZID=America/Chicago:20190418T163000
DTEND;TZID=America/Chicago:20190418T193000
LOCATION:Flagship Commons 10000 California St\, Omaha\, Nebraska 68114
SUMMARY:Volunteer & Beer Fair
END:VEVENT
END:VCALENDAR
