BEGIN:VCALENDAR
VERSION:2.0
PRODID:-//www.nebraskacasa.org//NONSGML kigkonsult.se iCalcreator 2.30.10//
CALSCALE:GREGORIAN
METHOD:PUBLISH
UID:1f85a847-ef75-4c21-a643-65baba8df403
X-WR-CALDESC:We are excited to announce the 1st Annual CASA Superhero Run o
 n April 27th\, sponsored by Great Western Bank! Be a superhero for childre
 n during April's Child Abuse Prevention Month! Choose between the 5K Race 
 ($40 registration fee) and the Villain Chase (Kid's Fun Run with $25 regis
 tration fee). Come dressed as your favorite superhero as there are prizes 
 for best costumes!
X-WR-RELCALID:d3bc2c796aacdcf242017f33b6aff39c
X-WR-TIMEZONE:America/Chicago
BEGIN:VTIMEZONE
TZID:America/Chicago
BEGIN:STANDARD
TZNAME:CST
DTSTART:20181104T020000
TZOFFSETFROM:-0500
TZOFFSETTO:-0600
RDATE:20191103T020000
END:STANDARD
BEGIN:DAYLIGHT
TZNAME:CDT
DTSTART:20190310T020000
TZOFFSETFROM:-0600
TZOFFSETTO:-0500
RDATE:20200308T020000
END:DAYLIGHT
END:VTIMEZONE
BEGIN:VEVENT
UID:bb1652b7-748f-47e3-9136-19617847c393
DTSTAMP:20260421T153945Z
DESCRIPTION:We are excited to announce the 1st Annual CASA Superhero Run on
  April 27th\, sponsored by Great Western Bank! Be a superhero for children
  during April's Child Abuse Prevention Month! Choose between the 5K Race (
 $40 registration fee) and the Villain Chase (Kid's Fun Run with $25 regist
 ration fee). Come dressed as your favorite superhero as there are prizes f
 or best costumes!
DTSTART;TZID=America/Chicago:20190427T090000
DTEND;TZID=America/Chicago:20190427T140000
LOCATION:Legion Park Shelter House\, 2200 Legion Park\, Sidney\, NE
SUMMARY:CASA Superhero Run
END:VEVENT
END:VCALENDAR
