BEGIN:VCALENDAR
VERSION:2.0
PRODID:-//www.nebraskacasa.org//NONSGML kigkonsult.se iCalcreator 2.30.10//
CALSCALE:GREGORIAN
METHOD:PUBLISH
UID:e0a2929b-825e-46bc-b04d-92ce65a7cc61
X-WR-CALDESC:
X-WR-RELCALID:324ff471a234f89a041a4a69d4a83170
X-WR-TIMEZONE:America/Chicago
BEGIN:VTIMEZONE
TZID:America/Chicago
BEGIN:STANDARD
TZNAME:CST
DTSTART:20181104T020000
TZOFFSETFROM:-0500
TZOFFSETTO:-0600
RDATE:20191103T020000
END:STANDARD
BEGIN:DAYLIGHT
TZNAME:CDT
DTSTART:20190310T020000
TZOFFSETFROM:-0600
TZOFFSETTO:-0500
RDATE:20200308T020000
END:DAYLIGHT
END:VTIMEZONE
BEGIN:VEVENT
UID:e2751bc3-9977-495f-be18-4b27141fb296
DTSTAMP:20260421T152912Z
DESCRIPTION:
DTSTART;TZID=America/Chicago:20190427T180000
DTEND;TZID=America/Chicago:20190427T210000
LOCATION:Lincoln Country Club
SUMMARY:CASAblanca Gala
END:VEVENT
END:VCALENDAR
