BEGIN:VCALENDAR
VERSION:2.0
PRODID:-//www.nebraskacasa.org//NONSGML kigkonsult.se iCalcreator 2.30.10//
CALSCALE:GREGORIAN
METHOD:PUBLISH
UID:664f9396-0097-4521-befb-aaaa03483f1b
X-WR-CALDESC:The Omaha Alumnae Chapter of Kappa Alpha Theta and Farrell's e
 Xtreme Bodyshaping bring you a KICK-A-THON for CASA! \n\nSupport our local
  Douglas County CASA through KICKBOXING! On Saturday\, April 27th\, we wil
 l host SEVEN class times throughout the day (45 minutes each) for the publ
 ic! This is open to all interested\, whether Farrell's students or not\, r
 egardless of age or ability! Come join us!\n\nClass times:\n10:00 am\n11:0
 0 am\n12:00 noon\n1:00 pm\n2:00 pm\n3:00 pm\n4:00 pm\n\nStay tuned to lear
 n who our instructors will be at each class time & hourly RAFFLE PRIZES!\n
 Cost:\nSuggested donation of $20/class/person OR $30 for a DAY PASS for th
 e opportunity to attend multiple class times. Donations will be taken at t
 he door.
X-WR-RELCALID:174d4cc66072b01a43369ee82d1ce810
X-WR-TIMEZONE:America/Chicago
BEGIN:VTIMEZONE
TZID:America/Chicago
BEGIN:STANDARD
TZNAME:CST
DTSTART:20181104T020000
TZOFFSETFROM:-0500
TZOFFSETTO:-0600
RDATE:20191103T020000
END:STANDARD
BEGIN:DAYLIGHT
TZNAME:CDT
DTSTART:20190310T020000
TZOFFSETFROM:-0600
TZOFFSETTO:-0500
RDATE:20200308T020000
END:DAYLIGHT
END:VTIMEZONE
BEGIN:VEVENT
UID:f79e588f-5174-4e8a-9d6e-91cb42553933
DTSTAMP:20260421T154222Z
DESCRIPTION:The Omaha Alumnae Chapter of Kappa Alpha Theta and Farrell's eX
 treme Bodyshaping bring you a KICK-A-THON for CASA! \n\nSupport our local 
 Douglas County CASA through KICKBOXING! On Saturday\, April 27th\, we will
  host SEVEN class times throughout the day (45 minutes each) for the publi
 c! This is open to all interested\, whether Farrell's students or not\, re
 gardless of age or ability! Come join us!\n\nClass times:\n10:00 am\n11:00
  am\n12:00 noon\n1:00 pm\n2:00 pm\n3:00 pm\n4:00 pm\n\nStay tuned to learn
  who our instructors will be at each class time & hourly RAFFLE PRIZES!\nC
 ost:\nSuggested donation of $20/class/person OR $30 for a DAY PASS for the
  opportunity to attend multiple class times. Donations will be taken at th
 e door.
DTSTART;TZID=America/Chicago:20190427T100000
DTEND;TZID=America/Chicago:20190427T160000
LOCATION:FXB Northwest (Omaha\, NE) 4915 N 120th St\, Omaha\, Nebraska 6816
 4
SUMMARY:Kicks for CASA!
END:VEVENT
END:VCALENDAR
