BEGIN:VCALENDAR
VERSION:2.0
PRODID:-//www.nebraskacasa.org//NONSGML kigkonsult.se iCalcreator 2.30.10//
CALSCALE:GREGORIAN
METHOD:PUBLISH
UID:5f9a6b02-1559-44d2-bc52-69c1ce4ba59c
X-WR-CALDESC:
X-WR-RELCALID:7165386659b5a10a3bec56122c5d0d00
X-WR-TIMEZONE:America/Chicago
BEGIN:VTIMEZONE
TZID:America/Chicago
BEGIN:STANDARD
TZNAME:CST
DTSTART:20181104T020000
TZOFFSETFROM:-0500
TZOFFSETTO:-0600
RDATE:20191103T020000
RDATE:20201101T020000
END:STANDARD
BEGIN:DAYLIGHT
TZNAME:CDT
DTSTART:20190310T020000
TZOFFSETFROM:-0600
TZOFFSETTO:-0500
RDATE:20200308T020000
END:DAYLIGHT
END:VTIMEZONE
BEGIN:VEVENT
UID:9f62e42c-58ce-497f-8d16-5d3dae3d6823
DTSTAMP:20260421T140736Z
DESCRIPTION:
DTSTART;TZID=America/Chicago:20190514T090000
DTEND;TZID=America/Chicago:20190514T100000
LOCATION:Phelps County Courthouse 2nd floor training room
SUMMARY:Phelps/Harlan County Volunteer Training
END:VEVENT
END:VCALENDAR
