BEGIN:VCALENDAR
VERSION:2.0
PRODID:-//www.nebraskacasa.org//NONSGML kigkonsult.se iCalcreator 2.30.10//
CALSCALE:GREGORIAN
METHOD:PUBLISH
UID:0e08593a-590f-41c1-8b62-3c4708adb9b9
X-WR-CALDESC:
X-WR-RELCALID:f4f98554d3b6ad739c933d7e364aa161
X-WR-TIMEZONE:America/Chicago
BEGIN:VTIMEZONE
TZID:America/Chicago
BEGIN:STANDARD
TZNAME:CST
DTSTART:20181104T020000
TZOFFSETFROM:-0500
TZOFFSETTO:-0600
RDATE:20191103T020000
RDATE:20201101T020000
END:STANDARD
BEGIN:DAYLIGHT
TZNAME:CDT
DTSTART:20190310T020000
TZOFFSETFROM:-0600
TZOFFSETTO:-0500
RDATE:20200308T020000
END:DAYLIGHT
END:VTIMEZONE
BEGIN:VEVENT
UID:85f8566d-461e-4a8d-bf47-be2b9dad4605
DTSTAMP:20260421T140026Z
DESCRIPTION:
DTSTART;TZID=America/Chicago:20190516T090000
DTEND;TZID=America/Chicago:20190516T100000
LOCATION:Phelps County Courthouse 2nd floor training room
SUMMARY:Phelps/Harlan County Volunteer Training
END:VEVENT
END:VCALENDAR
