BEGIN:VCALENDAR
VERSION:2.0
PRODID:-//www.nebraskacasa.org//NONSGML kigkonsult.se iCalcreator 2.30.10//
CALSCALE:GREGORIAN
METHOD:PUBLISH
UID:1d6a08a4-b4f5-4d6c-97b8-46b1fc4ac42b
X-WR-CALDESC:
X-WR-RELCALID:f3c98534e3afaf97a7e88f9784a0d6d2
X-WR-TIMEZONE:America/Chicago
BEGIN:VTIMEZONE
TZID:America/Chicago
BEGIN:STANDARD
TZNAME:CST
DTSTART:20181104T020000
TZOFFSETFROM:-0500
TZOFFSETTO:-0600
RDATE:20191103T020000
RDATE:20201101T020000
END:STANDARD
BEGIN:DAYLIGHT
TZNAME:CDT
DTSTART:20190310T020000
TZOFFSETFROM:-0600
TZOFFSETTO:-0500
RDATE:20200308T020000
END:DAYLIGHT
END:VTIMEZONE
BEGIN:VEVENT
UID:4f2493d3-9be3-4b49-b57a-8fd902e069d1
DTSTAMP:20260421T140147Z
DESCRIPTION:
DTSTART;TZID=America/Chicago:20190521T090000
DTEND;TZID=America/Chicago:20190521T100000
LOCATION:Phelps County Courthouse 2nd floor training room
SUMMARY:Phelps/Harlan County Volunteer Training
END:VEVENT
END:VCALENDAR
