BEGIN:VCALENDAR
VERSION:2.0
PRODID:-//www.nebraskacasa.org//NONSGML kigkonsult.se iCalcreator 2.30.10//
CALSCALE:GREGORIAN
METHOD:PUBLISH
UID:18e447fc-5b5b-43aa-a7a4-aab03fb2e935
X-WR-CALDESC:
X-WR-RELCALID:4a11aab1a4ef6159f71d85a3f3427b0e
X-WR-TIMEZONE:America/Chicago
BEGIN:VTIMEZONE
TZID:America/Chicago
BEGIN:STANDARD
TZNAME:CST
DTSTART:20181104T020000
TZOFFSETFROM:-0500
TZOFFSETTO:-0600
RDATE:20191103T020000
RDATE:20201101T020000
END:STANDARD
BEGIN:DAYLIGHT
TZNAME:CDT
DTSTART:20190310T020000
TZOFFSETFROM:-0600
TZOFFSETTO:-0500
RDATE:20200308T020000
END:DAYLIGHT
END:VTIMEZONE
BEGIN:VEVENT
UID:c50e0eb8-fe69-4e70-bb26-82c936a77269
DTSTAMP:20260421T140813Z
DESCRIPTION:
DTSTART;TZID=America/Chicago:20190528T090000
DTEND;TZID=America/Chicago:20190528T100000
LOCATION:Phelps County Courthouse 2nd floor training room
SUMMARY:Phelps/Harlan County Volunteer Training
END:VEVENT
END:VCALENDAR
