BEGIN:VCALENDAR
VERSION:2.0
PRODID:-//www.nebraskacasa.org//NONSGML kigkonsult.se iCalcreator 2.30.10//
CALSCALE:GREGORIAN
METHOD:PUBLISH
UID:4d9f7843-039f-4b8b-bfa4-d6c4077490e8
X-WR-CALDESC:
X-WR-RELCALID:c0538170aece30cf3c44c2c295559193
X-WR-TIMEZONE:America/Chicago
BEGIN:VTIMEZONE
TZID:America/Chicago
BEGIN:STANDARD
TZNAME:CST
DTSTART:20181104T020000
TZOFFSETFROM:-0500
TZOFFSETTO:-0600
RDATE:20191103T020000
RDATE:20201101T020000
END:STANDARD
BEGIN:DAYLIGHT
TZNAME:CDT
DTSTART:20190310T020000
TZOFFSETFROM:-0600
TZOFFSETTO:-0500
RDATE:20200308T020000
END:DAYLIGHT
END:VTIMEZONE
BEGIN:VEVENT
UID:023f4822-1e4c-4785-88b9-a9322fed708f
DTSTAMP:20260421T140434Z
DESCRIPTION:
DTSTART;TZID=America/Chicago:20190530T090000
DTEND;TZID=America/Chicago:20190530T100000
LOCATION:Phelps County Courthouse 2nd floor training room
SUMMARY:Phelps/Harlan County Volunteer Training
END:VEVENT
END:VCALENDAR
