BEGIN:VCALENDAR
VERSION:2.0
PRODID:-//www.nebraskacasa.org//NONSGML kigkonsult.se iCalcreator 2.30.10//
CALSCALE:GREGORIAN
METHOD:PUBLISH
UID:d33b4705-8b4e-4564-a82a-3421b06d82d7
X-WR-CALDESC:Speak out for ALL children by marching with CASA at the Heartl
 and Pride Parade on Saturday\, June 29th! The parade begins at 10:00 am on
  15th and Harney and will follow a route through downtown Omaha.
X-WR-RELCALID:f6d3aa57f3cc14f4e7b2b50c27f9efe8
X-WR-TIMEZONE:America/Chicago
BEGIN:VTIMEZONE
TZID:America/Chicago
BEGIN:STANDARD
TZNAME:CST
DTSTART:20181104T020000
TZOFFSETFROM:-0500
TZOFFSETTO:-0600
RDATE:20191103T020000
RDATE:20201101T020000
END:STANDARD
BEGIN:DAYLIGHT
TZNAME:CDT
DTSTART:20190310T020000
TZOFFSETFROM:-0600
TZOFFSETTO:-0500
RDATE:20200308T020000
END:DAYLIGHT
END:VTIMEZONE
BEGIN:VEVENT
UID:18807011-7149-4b2c-b4d4-a140ee75985e
DTSTAMP:20260421T123324Z
DESCRIPTION:Speak out for ALL children by marching with CASA at the Heartla
 nd Pride Parade on Saturday\, June 29th! The parade begins at 10:00 am on 
 15th and Harney and will follow a route through downtown Omaha.
DTSTART;TZID=America/Chicago:20190629T093000
DTEND;TZID=America/Chicago:20190629T113000
LOCATION:15th and Harney\, Omaha\, NE
SUMMARY:March with CASA at Heartland Pride!
END:VEVENT
END:VCALENDAR
