BEGIN:VCALENDAR
VERSION:2.0
PRODID:-//www.nebraskacasa.org//NONSGML kigkonsult.se iCalcreator 2.30.10//
CALSCALE:GREGORIAN
METHOD:PUBLISH
UID:aa987f28-8307-4068-ba7c-032eb47670e2
X-WR-CALDESC:Join us for the Tour de Brew LNK 2019 season.  This charitable
  fundraiser is a fun\, laid back bike ride featuring craft beer\, communit
 y and of course prizes.  Since our first season in 2014 Tour de Brew LNK r
 iders have raised over $40\,000 for local non-profits.  The 2019 season pa
 cks a punch with the addition of a food truck rally and LIVE music at The 
 LOT.\n\nJuly 18th we will be riding for CASA for Lancaster County
X-WR-RELCALID:5f499d0f4350c1a1d3e63c1304096792
X-WR-TIMEZONE:America/Chicago
BEGIN:VTIMEZONE
TZID:America/Chicago
BEGIN:STANDARD
TZNAME:CST
DTSTART:20181104T020000
TZOFFSETFROM:-0500
TZOFFSETTO:-0600
RDATE:20191103T020000
RDATE:20201101T020000
END:STANDARD
BEGIN:DAYLIGHT
TZNAME:CDT
DTSTART:20190310T020000
TZOFFSETFROM:-0600
TZOFFSETTO:-0500
RDATE:20200308T020000
END:DAYLIGHT
END:VTIMEZONE
BEGIN:VEVENT
UID:9e43c8de-89f5-46b3-bc83-a21d6c9a1aa6
DTSTAMP:20260421T105018Z
DESCRIPTION:Join us for the Tour de Brew LNK 2019 season.  This charitable 
 fundraiser is a fun\, laid back bike ride featuring craft beer\, community
  and of course prizes.  Since our first season in 2014 Tour de Brew LNK ri
 ders have raised over $40\,000 for local non-profits.  The 2019 season pac
 ks a punch with the addition of a food truck rally and LIVE music at The L
 OT.\n\nJuly 18th we will be riding for CASA for Lancaster County
DTSTART;TZID=America/Chicago:20190718T163000
DTEND;TZID=America/Chicago:20190718T220000
LOCATION:
SUMMARY:July Tour de Brew | CASA
END:VEVENT
END:VCALENDAR
