BEGIN:VCALENDAR
VERSION:2.0
PRODID:-//www.nebraskacasa.org//NONSGML kigkonsult.se iCalcreator 2.30.10//
CALSCALE:GREGORIAN
METHOD:PUBLISH
UID:11c875b8-15cb-4ea8-9cc4-64da6df7c2ec
X-WR-CALDESC:Get ready for CASA's 9th Annual 5K Superhero Run. For the firs
 t time ever\, we're expanding the fun into an all-day\, family fun festiva
 l with food\, music\, games\, and other attractions. The Festival will be 
 free and open to the public. We want to inspire as many people in the comm
 unity to be a voice for children in foster care.\n\nCheck back for full de
 tails over the next few months or visit www.casaomaha.org/superherofestiva
 l. Interested in contributing as an event sponsor? Contact Alexander Cayet
 ano\, Director of Volunteer & Community Engagement\, for more information:
  acayetano@casaomaha.org.
X-WR-RELCALID:7c099d8903d4062d42ffba6cae2807f2
X-WR-TIMEZONE:America/Chicago
BEGIN:VTIMEZONE
TZID:America/Chicago
BEGIN:STANDARD
TZNAME:CST
DTSTART:20181104T020000
TZOFFSETFROM:-0500
TZOFFSETTO:-0600
RDATE:20191103T020000
RDATE:20201101T020000
END:STANDARD
BEGIN:DAYLIGHT
TZNAME:CDT
DTSTART:20190310T020000
TZOFFSETFROM:-0600
TZOFFSETTO:-0500
RDATE:20200308T020000
END:DAYLIGHT
END:VTIMEZONE
BEGIN:VEVENT
UID:692b2c5f-dd61-47fb-b89d-26e1f58ab686
DTSTAMP:20260421T090700Z
DESCRIPTION:Get ready for CASA's 9th Annual 5K Superhero Run. For the first
  time ever\, we're expanding the fun into an all-day\, family fun festival
  with food\, music\, games\, and other attractions. The Festival will be f
 ree and open to the public. We want to inspire as many people in the commu
 nity to be a voice for children in foster care.\n\nCheck back for full det
 ails over the next few months or visit www.casaomaha.org/superherofestival
 . Interested in contributing as an event sponsor? Contact Alexander Cayeta
 no\, Director of Volunteer & Community Engagement\, for more information: 
 acayetano@casaomaha.org.
DTSTART;TZID=America/Chicago:20190824T080000
DTEND;TZID=America/Chicago:20190824T150000
LOCATION:Stinson Park 2232 South 64th Street\, Omaha\, Nebraska 68106
SUMMARY:CASA Superhero Festival & 5K Superhero Run
END:VEVENT
END:VCALENDAR
