BEGIN:VCALENDAR
VERSION:2.0
PRODID:-//www.nebraskacasa.org//NONSGML kigkonsult.se iCalcreator 2.30.10//
CALSCALE:GREGORIAN
METHOD:PUBLISH
UID:03301324-fada-4931-aa3b-5b42552505d4
X-WR-CALDESC:Join us for our 9th annual gala to celebrate court appointed s
 pecial advocates!
X-WR-RELCALID:770b0bb11c2ceb3153df9b70a5f691c7
X-WR-TIMEZONE:America/Chicago
BEGIN:VTIMEZONE
TZID:America/Chicago
BEGIN:STANDARD
TZNAME:CST
DTSTART:20191103T020000
TZOFFSETFROM:-0500
TZOFFSETTO:-0600
RDATE:20201101T020000
END:STANDARD
BEGIN:DAYLIGHT
TZNAME:CDT
DTSTART:20190310T020000
TZOFFSETFROM:-0600
TZOFFSETTO:-0500
RDATE:20200308T020000
RDATE:20210314T020000
END:DAYLIGHT
END:VTIMEZONE
BEGIN:VEVENT
UID:cfa7e25f-4b88-4e1c-91ff-eaaa80a3b0fa
DTSTAMP:20260420T204902Z
DESCRIPTION:Join us for our 9th annual gala to celebrate court appointed sp
 ecial advocates!
DTSTART;TZID=America/Chicago:20200307T180000
DTEND;TZID=America/Chicago:20200307T230000
LOCATION:Lincoln Country Club
SUMMARY:CASAblanca Gala
END:VEVENT
END:VCALENDAR
