BEGIN:VCALENDAR
VERSION:2.0
PRODID:-//www.nebraskacasa.org//NONSGML kigkonsult.se iCalcreator 2.30.10//
CALSCALE:GREGORIAN
METHOD:PUBLISH
UID:73a41695-409a-462c-acaa-c8bc12438f60
X-WR-CALDESC:
X-WR-RELCALID:c93020536b201fe678fa540913ddf22a
X-WR-TIMEZONE:America/Chicago
BEGIN:VTIMEZONE
TZID:America/Chicago
BEGIN:STANDARD
TZNAME:CST
DTSTART:20191103T020000
TZOFFSETFROM:-0500
TZOFFSETTO:-0600
RDATE:20201101T020000
RDATE:20211107T020000
END:STANDARD
BEGIN:DAYLIGHT
TZNAME:CDT
DTSTART:20200308T020000
TZOFFSETFROM:-0600
TZOFFSETTO:-0500
RDATE:20210314T020000
END:DAYLIGHT
END:VTIMEZONE
BEGIN:VEVENT
UID:b03efcda-73fb-4623-8e9d-abd1a6f81dd0
DTSTAMP:20260424T083404Z
DESCRIPTION:
DTSTART;TZID=America/Chicago:20200829T090000
DTEND;TZID=America/Chicago:20200829T170000
LOCATION:Online
SUMMARY:Nebraska CASA Conference
END:VEVENT
END:VCALENDAR
