BEGIN:VCALENDAR
VERSION:2.0
PRODID:-//www.nebraskacasa.org//NONSGML kigkonsult.se iCalcreator 2.30.10//
CALSCALE:GREGORIAN
METHOD:PUBLISH
UID:1c1ea712-4391-46d3-817c-ca236826a734
X-WR-CALDESC:Are you looking for a meaningful opportunity to change the lif
 e of a child? Join Nebraska CASA for this virtual information session and 
 learn how you can make an impact in your community!\n\nDuring this webinar
 \, you will learn about:\n-the CASA role\n-the application process to beco
 me an advocate\n-pre-service training and ongoing support\n-other opportun
 ities to get involved\n\nThere will also be time for a Q&A.
X-WR-RELCALID:8be59151ae79f6dfce0cdfd405d0c228
X-WR-TIMEZONE:America/Chicago
BEGIN:VTIMEZONE
TZID:America/Chicago
BEGIN:STANDARD
TZNAME:CST
DTSTART:20201101T020000
TZOFFSETFROM:-0500
TZOFFSETTO:-0600
RDATE:20211107T020000
RDATE:20221106T020000
END:STANDARD
BEGIN:DAYLIGHT
TZNAME:CDT
DTSTART:20210314T020000
TZOFFSETFROM:-0600
TZOFFSETTO:-0500
RDATE:20220313T020000
END:DAYLIGHT
END:VTIMEZONE
BEGIN:VEVENT
UID:31c9d4e8-5462-4380-a1d8-4acd9090ccfa
DTSTAMP:20260419T175739Z
DESCRIPTION:Are you looking for a meaningful opportunity to change the life
  of a child? Join Nebraska CASA for this virtual information session and l
 earn how you can make an impact in your community!\n\nDuring this webinar\
 , you will learn about:\n-the CASA role\n-the application process to becom
 e an advocate\n-pre-service training and ongoing support\n-other opportuni
 ties to get involved\n\nThere will also be time for a Q&A.
DTSTART;TZID=America/Chicago:20210817T180000
DTEND;TZID=America/Chicago:20210817T190000
LOCATION:https://us02web.zoom.us/meeting/register/tZMld-GhpjsiG9103G9YxPN8i
 0EMNTDILQei
SUMMARY:Learn What it Means to be a CASA Advocate
END:VEVENT
END:VCALENDAR
