BEGIN:VCALENDAR
VERSION:2.0
PRODID:-//www.nebraskacasa.org//NONSGML kigkonsult.se iCalcreator 2.30.10//
CALSCALE:GREGORIAN
METHOD:PUBLISH
UID:0c2ecec7-e863-4aca-ba13-83d57041a8e5
X-WR-CALDESC:Annual conference for CASA volunteers\, staff\, and anyone who
  volunteers or works in child welfare.
X-WR-RELCALID:04093a90733a6e3de998c9b83bc36229
X-WR-TIMEZONE:America/Chicago
BEGIN:VTIMEZONE
TZID:America/Chicago
BEGIN:STANDARD
TZNAME:CST
DTSTART:20201101T020000
TZOFFSETFROM:-0500
TZOFFSETTO:-0600
RDATE:20211107T020000
RDATE:20221106T020000
END:STANDARD
BEGIN:DAYLIGHT
TZNAME:CDT
DTSTART:20210314T020000
TZOFFSETFROM:-0600
TZOFFSETTO:-0500
RDATE:20220313T020000
END:DAYLIGHT
END:VTIMEZONE
BEGIN:VEVENT
UID:f93bd9cc-f392-43d2-b2c7-0b9a6edfe604
DTSTAMP:20260419T180126Z
DESCRIPTION:Annual conference for CASA volunteers\, staff\, and anyone who 
 volunteers or works in child welfare.
DTSTART;TZID=America/Chicago:20210827T173000
DTEND;TZID=America/Chicago:20210828T163000
LOCATION:Embassy Suites by Hilton Omaha Downtown Old Market
SUMMARY:Nebraska CASA Conference
END:VEVENT
END:VCALENDAR
