BEGIN:VCALENDAR
VERSION:2.0
PRODID:-//www.nebraskacasa.org//NONSGML kigkonsult.se iCalcreator 2.30.10//
CALSCALE:GREGORIAN
METHOD:PUBLISH
UID:9e535283-7de2-4915-970a-983b9cd80195
X-WR-CALDESC:Local and state CASA program staff's annual day-long meeting.
X-WR-RELCALID:828ff690178c22f4e1b25d5874fbcb00
X-WR-TIMEZONE:America/Chicago
BEGIN:VTIMEZONE
TZID:America/Chicago
BEGIN:STANDARD
TZNAME:CST
DTSTART:20201101T020000
TZOFFSETFROM:-0500
TZOFFSETTO:-0600
RDATE:20211107T020000
RDATE:20221106T020000
END:STANDARD
BEGIN:DAYLIGHT
TZNAME:CDT
DTSTART:20210314T020000
TZOFFSETFROM:-0600
TZOFFSETTO:-0500
RDATE:20220313T020000
END:DAYLIGHT
END:VTIMEZONE
BEGIN:VEVENT
UID:227fc593-96a1-4ffe-9504-0e55b1e49429
DTSTAMP:20260419T174934Z
DESCRIPTION:Local and state CASA program staff's annual day-long meeting.
DTSTART;TZID=America/Chicago:20210827T083000
DTEND;TZID=America/Chicago:20210827T160000
LOCATION:Embassy Suites by Hilton Downtown Old Market
SUMMARY:Nebraska CASA Director's Meeting
END:VEVENT
END:VCALENDAR
