BEGIN:VCALENDAR
VERSION:2.0
PRODID:-//www.nebraskacasa.org//NONSGML kigkonsult.se iCalcreator 2.30.10//
CALSCALE:GREGORIAN
METHOD:PUBLISH
UID:864f0396-b67b-48c4-a1b9-72f691350dbe
X-WR-CALDESC:
X-WR-RELCALID:1a328e212a6af6ffef6aabde6cc6a066
X-WR-TIMEZONE:America/Chicago
BEGIN:VTIMEZONE
TZID:America/Chicago
BEGIN:STANDARD
TZNAME:CST
DTSTART:20201101T020000
TZOFFSETFROM:-0500
TZOFFSETTO:-0600
RDATE:20211107T020000
RDATE:20221106T020000
END:STANDARD
BEGIN:DAYLIGHT
TZNAME:CDT
DTSTART:20210314T020000
TZOFFSETFROM:-0600
TZOFFSETTO:-0500
RDATE:20220313T020000
END:DAYLIGHT
END:VTIMEZONE
BEGIN:VEVENT
UID:513156b2-d755-4a0d-ab37-c2afaba46f0e
DTSTAMP:20260419T163812Z
DESCRIPTION:
DTSTART;TZID=America/Chicago:20210906T080000
DTEND;TZID=America/Chicago:20210920T170000
LOCATION:Nebraska
SUMMARY:Chalk It Up for CASA
END:VEVENT
END:VCALENDAR
