BEGIN:VCALENDAR
VERSION:2.0
PRODID:-//www.nebraskacasa.org//NONSGML kigkonsult.se iCalcreator 2.30.10//
CALSCALE:GREGORIAN
METHOD:PUBLISH
UID:e23c8e6e-cd05-4f51-b9e1-c331699a2934
X-WR-CALDESC:Are you looking for a meaningful opportunity to change the lif
 e of a child? Join Nebraska CASA for this virtual information session and 
 learn how you can make an impact in your community!\n\nDuring this webinar
 \, you will learn about:\n-the CASA role\n-the application process to beco
 me an advocate\n-pre-service training and ongoing support\n-other opportun
 ities to get involved\n\nThere will also be time for a Q&A.
X-WR-RELCALID:a040b43f5afd60b3494f55a06e532800
X-WR-TIMEZONE:America/Chicago
BEGIN:VTIMEZONE
TZID:America/Chicago
BEGIN:STANDARD
TZNAME:CST
DTSTART:20201101T020000
TZOFFSETFROM:-0500
TZOFFSETTO:-0600
RDATE:20211107T020000
RDATE:20221106T020000
END:STANDARD
BEGIN:DAYLIGHT
TZNAME:CDT
DTSTART:20210314T020000
TZOFFSETFROM:-0600
TZOFFSETTO:-0500
RDATE:20220313T020000
RDATE:20230312T020000
END:DAYLIGHT
END:VTIMEZONE
BEGIN:VEVENT
UID:37a8b02f-3d4f-4325-b844-d425abea9cbf
DTSTAMP:20260419T162717Z
DESCRIPTION:Are you looking for a meaningful opportunity to change the life
  of a child? Join Nebraska CASA for this virtual information session and l
 earn how you can make an impact in your community!\n\nDuring this webinar\
 , you will learn about:\n-the CASA role\n-the application process to becom
 e an advocate\n-pre-service training and ongoing support\n-other opportuni
 ties to get involved\n\nThere will also be time for a Q&A.
DTSTART;TZID=America/Chicago:20210921T180000
DTEND;TZID=America/Chicago:20210921T190000
LOCATION:https://us02web.zoom.us/meeting/register/tZwvcOGtrzIiHdHmFMvJ0-yzG
 I1JxnaDZjHz
SUMMARY:Learn What it Means to be a CASA Advocate
END:VEVENT
END:VCALENDAR
