BEGIN:VCALENDAR
VERSION:2.0
PRODID:-//www.nebraskacasa.org//NONSGML kigkonsult.se iCalcreator 2.30.10//
CALSCALE:GREGORIAN
METHOD:PUBLISH
UID:fe63a05f-85e3-431c-9b3f-9d24c914f613
X-WR-CALDESC:Join us for a socially distanced indoor/outdoor party to celeb
 rate all of the amazing work of our volunteers.  Enjoy an evening of heavy
  hors d'oeuvres\, cash bar\, music from Isaac Moore & Lazer Wolfe\, and da
 ncing!
X-WR-RELCALID:b53670e0da4b9d5a216b9a0ada8a8865
X-WR-TIMEZONE:America/Chicago
BEGIN:VTIMEZONE
TZID:America/Chicago
BEGIN:STANDARD
TZNAME:CST
DTSTART:20201101T020000
TZOFFSETFROM:-0500
TZOFFSETTO:-0600
RDATE:20211107T020000
RDATE:20221106T020000
END:STANDARD
BEGIN:DAYLIGHT
TZNAME:CDT
DTSTART:20210314T020000
TZOFFSETFROM:-0600
TZOFFSETTO:-0500
RDATE:20220313T020000
RDATE:20230312T020000
END:DAYLIGHT
END:VTIMEZONE
BEGIN:VEVENT
UID:4b0f7ec0-73d7-4d13-ae4c-786517eb41bf
DTSTAMP:20260419T144627Z
DESCRIPTION:Join us for a socially distanced indoor/outdoor party to celebr
 ate all of the amazing work of our volunteers.  Enjoy an evening of heavy 
 hors d'oeuvres\, cash bar\, music from Isaac Moore & Lazer Wolfe\, and dan
 cing!
DTSTART;TZID=America/Chicago:20211008T183000
DTEND;TZID=America/Chicago:20211008T233000
LOCATION:Robber's Cave in Lincoln
SUMMARY:CASAPalooza
END:VEVENT
END:VCALENDAR
