BEGIN:VCALENDAR
VERSION:2.0
PRODID:-//www.nebraskacasa.org//NONSGML kigkonsult.se iCalcreator 2.30.10//
CALSCALE:GREGORIAN
METHOD:PUBLISH
UID:b482d5af-1344-4e24-a7ef-59fcd26e7f06
X-WR-CALDESC:Have you thought about being an advocate for abused and neglec
 ted children? Register now to join us for an online meeting describing wha
 t is involved with being a CASA Volunteer. \n
X-WR-RELCALID:e9c1f8bbcb72e055493f1e5326945f74
X-WR-TIMEZONE:America/Chicago
BEGIN:VTIMEZONE
TZID:America/Chicago
BEGIN:STANDARD
TZNAME:CST
DTSTART:20211107T020000
TZOFFSETFROM:-0500
TZOFFSETTO:-0600
RDATE:20221106T020000
END:STANDARD
BEGIN:DAYLIGHT
TZNAME:CDT
DTSTART:20210314T020000
TZOFFSETFROM:-0600
TZOFFSETTO:-0500
RDATE:20220313T020000
RDATE:20230312T020000
END:DAYLIGHT
END:VTIMEZONE
BEGIN:VEVENT
UID:ebdfdc4e-a858-49d4-ae8c-b68849cb265d
DTSTAMP:20260419T133626Z
DESCRIPTION:Have you thought about being an advocate for abused and neglect
 ed children? Register now to join us for an online meeting describing what
  is involved with being a CASA Volunteer. \n
DTSTART;TZID=America/Chicago:20211116T180000
DTEND;TZID=America/Chicago:20211116T190000
LOCATION:Zoom Online Meeting
SUMMARY:Lend Your Voice
END:VEVENT
END:VCALENDAR
