BEGIN:VCALENDAR
VERSION:2.0
PRODID:-//www.nebraskacasa.org//NONSGML kigkonsult.se iCalcreator 2.30.10//
CALSCALE:GREGORIAN
METHOD:PUBLISH
UID:c275ad83-9a67-418b-9bde-815d9aaa6537
X-WR-CALDESC:
X-WR-RELCALID:32722d250cb6a07437ad15ad3cddda3a
X-WR-TIMEZONE:America/Chicago
BEGIN:VTIMEZONE
TZID:America/Chicago
BEGIN:STANDARD
TZNAME:CST
DTSTART:20261101T020000
TZOFFSETFROM:-0500
TZOFFSETTO:-0600
RDATE:20271107T020000
RDATE:20281105T020000
END:STANDARD
BEGIN:DAYLIGHT
TZNAME:CDT
DTSTART:20270314T020000
TZOFFSETFROM:-0600
TZOFFSETTO:-0500
RDATE:20280312T020000
END:DAYLIGHT
END:VTIMEZONE
BEGIN:VEVENT
UID:8948096a-51c3-4875-beac-a01bb0a7319b
DTSTAMP:20260422T034948Z
DESCRIPTION:
DTSTART;TZID=America/Chicago:20270715T180000
DTEND;TZID=America/Chicago:20270715T200000
LOCATION:
SUMMARY:Nebraska CASA Board Meeting
END:VEVENT
END:VCALENDAR
